BEGIN:VCALENDAR
VERSION:2.0
PRODID:-//Bottendorfer Gro&szlig;kaliber - Sch&uuml;tzenverein von 1991 e.V. - ECPv6.15.20//NONSGML v1.0//EN
CALSCALE:GREGORIAN
METHOD:PUBLISH
X-ORIGINAL-URL:https://schuetzen-bottendorf.de
X-WR-CALDESC:Veranstaltungen für Bottendorfer Gro&szlig;kaliber - Sch&uuml;tzenverein von 1991 e.V.
REFRESH-INTERVAL;VALUE=DURATION:PT1H
X-Robots-Tag:noindex
X-PUBLISHED-TTL:PT1H
BEGIN:VTIMEZONE
TZID:UTC
BEGIN:STANDARD
TZOFFSETFROM:+0000
TZOFFSETTO:+0000
TZNAME:UTC
DTSTART:20250101T000000
END:STANDARD
END:VTIMEZONE
BEGIN:VEVENT
DTSTART;VALUE=DATE:20260801
DTEND;VALUE=DATE:20260802
DTSTAMP:20260423T081629
CREATED:20260202T150327Z
LAST-MODIFIED:20260202T150327Z
UID:1787-1785542400-1785628799@schuetzen-bottendorf.de
SUMMARY:Jagdschule Heldrungen - 6. Termin *
DESCRIPTION:
URL:https://schuetzen-bottendorf.de/event/jagdschule-heldrungen-6-termin-3/
LOCATION:GK-Schießstandanlage Bottendorf\, Pfaffenrainweg\, Roßleben-Wiehe OT Bottendorf\, Thüringen\, 06571\, Deutschland
END:VEVENT
BEGIN:VEVENT
DTSTART;VALUE=DATE:20260809
DTEND;VALUE=DATE:20260810
DTSTAMP:20260423T081629
CREATED:20260202T150358Z
LAST-MODIFIED:20260202T150358Z
UID:1789-1786233600-1786319999@schuetzen-bottendorf.de
SUMMARY:SM Schönewerda
DESCRIPTION:
URL:https://schuetzen-bottendorf.de/event/sm-schoenewerda-19/
END:VEVENT
BEGIN:VEVENT
DTSTART;VALUE=DATE:20260815
DTEND;VALUE=DATE:20260816
DTSTAMP:20260423T081629
CREATED:20260202T150431Z
LAST-MODIFIED:20260202T150431Z
UID:1791-1786752000-1786838399@schuetzen-bottendorf.de
SUMMARY:Jagdschule Heldrungen - 7. Termin *
DESCRIPTION:
URL:https://schuetzen-bottendorf.de/event/jagdschule-heldrungen-7-termin-3/
END:VEVENT
BEGIN:VEVENT
DTSTART;TZID=UTC:20260821T180000
DTEND;TZID=UTC:20260821T233000
DTSTAMP:20260423T081629
CREATED:20260202T150528Z
LAST-MODIFIED:20260202T150528Z
UID:1793-1787335200-1787355000@schuetzen-bottendorf.de
SUMMARY:Feier Ehrenscheibe ab 18:00 Uhr
DESCRIPTION:
URL:https://schuetzen-bottendorf.de/event/feier-ehrenscheibe-ab-1800-uhr-2/
END:VEVENT
BEGIN:VEVENT
DTSTART;VALUE=DATE:20260829
DTEND;VALUE=DATE:20260830
DTSTAMP:20260423T081629
CREATED:20260202T150602Z
LAST-MODIFIED:20260202T150602Z
UID:1795-1787961600-1788047999@schuetzen-bottendorf.de
SUMMARY:Jagdschule Heldrungen - 8. Termin *
DESCRIPTION:
URL:https://schuetzen-bottendorf.de/event/jagdschule-heldrungen-8-termin-3/
LOCATION:GK-Schießstandanlage Bottendorf\, Pfaffenrainweg\, Roßleben-Wiehe OT Bottendorf\, Thüringen\, 06571\, Deutschland
END:VEVENT
BEGIN:VEVENT
DTSTART;VALUE=DATE:20260830
DTEND;VALUE=DATE:20260831
DTSTAMP:20260423T081629
CREATED:20260202T150716Z
LAST-MODIFIED:20260202T150716Z
UID:1797-1788048000-1788134399@schuetzen-bottendorf.de
SUMMARY:Erweiterter Grundlagenkurs Gewehr (Anfragen / Anmeldung: 015203568303)
DESCRIPTION:
URL:https://schuetzen-bottendorf.de/event/erweiterter-grundlagenkurs-gewehr-anfragen-anmeldung-015203568303/
LOCATION:Saal GKSV Bottendorf\, Pfaffenrainweg\, Roßleben-Wiehe OT Bottendorf\, Thüringen\, 06571
END:VEVENT
END:VCALENDAR