BEGIN:VCALENDAR
VERSION:2.0
PRODID:-//Bottendorfer Gro&szlig;kaliber - Sch&uuml;tzenverein von 1991 e.V. - ECPv6.15.20//NONSGML v1.0//EN
CALSCALE:GREGORIAN
METHOD:PUBLISH
X-WR-CALNAME:Bottendorfer Gro&szlig;kaliber - Sch&uuml;tzenverein von 1991 e.V.
X-ORIGINAL-URL:https://schuetzen-bottendorf.de
X-WR-CALDESC:Veranstaltungen für Bottendorfer Gro&szlig;kaliber - Sch&uuml;tzenverein von 1991 e.V.
REFRESH-INTERVAL;VALUE=DURATION:PT1H
X-Robots-Tag:noindex
X-PUBLISHED-TTL:PT1H
BEGIN:VTIMEZONE
TZID:UTC
BEGIN:STANDARD
TZOFFSETFROM:+0000
TZOFFSETTO:+0000
TZNAME:UTC
DTSTART:20250101T000000
END:STANDARD
END:VTIMEZONE
BEGIN:VEVENT
DTSTART;VALUE=DATE:20260601
DTEND;VALUE=DATE:20260801
DTSTAMP:20260421T095114
CREATED:20260111T163748Z
LAST-MODIFIED:20260111T163748Z
UID:1739-1780272000-1785542399@schuetzen-bottendorf.de
SUMMARY:Schießen auf die Ehrenscheibe\, Feier am 21.08.2026 ab 18:00 Uhr
DESCRIPTION:
URL:https://schuetzen-bottendorf.de/event/schiessen-auf-die-ehrenscheibe-feier-am-21-08-2026-ab-1800-uhr/
LOCATION:GK-Schießstandanlage Bottendorf\, Pfaffenrainweg\, Roßleben-Wiehe OT Bottendorf\, Thüringen\, 06571\, Deutschland
END:VEVENT
BEGIN:VEVENT
DTSTART;VALUE=DATE:20260704
DTEND;VALUE=DATE:20260705
DTSTAMP:20260421T095114
CREATED:20260202T145951Z
LAST-MODIFIED:20260202T145951Z
UID:1777-1783123200-1783209599@schuetzen-bottendorf.de
SUMMARY:JgSchaft Gutmannshausen (Nutzung Trapstand)
DESCRIPTION:
URL:https://schuetzen-bottendorf.de/event/jgschaft-gutmannshausen-nutzung-trapstand-2/
END:VEVENT
BEGIN:VEVENT
DTSTART;VALUE=DATE:20260705
DTEND;VALUE=DATE:20260706
DTSTAMP:20260421T095114
CREATED:20260202T150024Z
LAST-MODIFIED:20260202T150024Z
UID:1779-1783209600-1783295999@schuetzen-bottendorf.de
SUMMARY:SM Schönewerda
DESCRIPTION:
URL:https://schuetzen-bottendorf.de/event/sm-schoenewerda-18/
END:VEVENT
BEGIN:VEVENT
DTSTART;VALUE=DATE:20260711
DTEND;VALUE=DATE:20260712
DTSTAMP:20260421T095114
CREATED:20260202T150109Z
LAST-MODIFIED:20260202T150109Z
UID:1781-1783728000-1783814399@schuetzen-bottendorf.de
SUMMARY:ZF-Pokal (GKSV Bottendorf\, offener Wettkampf)
DESCRIPTION:
URL:https://schuetzen-bottendorf.de/event/zf-pokal-gksv-bottendorf-offener-wettkampf-2/
LOCATION:GK-Schießstandanlage Bottendorf\, Pfaffenrainweg\, Roßleben-Wiehe OT Bottendorf\, Thüringen\, 06571\, Deutschland
END:VEVENT
BEGIN:VEVENT
DTSTART;VALUE=DATE:20260718
DTEND;VALUE=DATE:20260719
DTSTAMP:20260421T095114
CREATED:20260202T150140Z
LAST-MODIFIED:20260202T150140Z
UID:1783-1784332800-1784419199@schuetzen-bottendorf.de
SUMMARY:Schießen in historischen Uniformen (Biwak)
DESCRIPTION:
URL:https://schuetzen-bottendorf.de/event/schiessen-in-historischen-uniformen-biwak-3/
END:VEVENT
BEGIN:VEVENT
DTSTART;TZID=UTC:20260725T180000
DTEND;TZID=UTC:20260725T233000
DTSTAMP:20260421T095114
CREATED:20260202T150250Z
LAST-MODIFIED:20260202T150250Z
UID:1785-1785002400-1785022200@schuetzen-bottendorf.de
SUMMARY:Feier Königsschießen ab 18:00 Uhr
DESCRIPTION:
URL:https://schuetzen-bottendorf.de/event/feier-koenigsschiessen-ab-1800-uhr/
LOCATION:Saal GKSV Bottendorf\, Pfaffenrainweg\, Roßleben-Wiehe OT Bottendorf\, Thüringen\, 06571
END:VEVENT
END:VCALENDAR