BEGIN:VCALENDAR
VERSION:2.0
PRODID:-//Bottendorfer Gro&szlig;kaliber - Sch&uuml;tzenverein von 1991 e.V. - ECPv6.15.20//NONSGML v1.0//EN
CALSCALE:GREGORIAN
METHOD:PUBLISH
X-WR-CALNAME:Bottendorfer Gro&szlig;kaliber - Sch&uuml;tzenverein von 1991 e.V.
X-ORIGINAL-URL:https://schuetzen-bottendorf.de
X-WR-CALDESC:Veranstaltungen für Bottendorfer Gro&szlig;kaliber - Sch&uuml;tzenverein von 1991 e.V.
REFRESH-INTERVAL;VALUE=DURATION:PT1H
X-Robots-Tag:noindex
X-PUBLISHED-TTL:PT1H
BEGIN:VTIMEZONE
TZID:UTC
BEGIN:STANDARD
TZOFFSETFROM:+0000
TZOFFSETTO:+0000
TZNAME:UTC
DTSTART:20250101T000000
END:STANDARD
END:VTIMEZONE
BEGIN:VEVENT
DTSTART;VALUE=DATE:20261009
DTEND;VALUE=DATE:20261012
DTSTAMP:20260425T142854
CREATED:20260202T151543Z
LAST-MODIFIED:20260202T151543Z
UID:1816-1791504000-1791763199@schuetzen-bottendorf.de
SUMMARY:Landespokal BDS - Langwaffe 100m & Trap (Trap am 11.10.2026)
DESCRIPTION:
URL:https://schuetzen-bottendorf.de/event/landespokal-bds-langwaffe-100m-trap-trap-am-11-10-2026/
END:VEVENT
END:VCALENDAR