BEGIN:VCALENDAR
VERSION:2.0
PRODID:-//Bottendorfer Gro&szlig;kaliber - Sch&uuml;tzenverein von 1991 e.V. - ECPv6.15.20//NONSGML v1.0//EN
CALSCALE:GREGORIAN
METHOD:PUBLISH
X-WR-CALNAME:Bottendorfer Gro&szlig;kaliber - Sch&uuml;tzenverein von 1991 e.V.
X-ORIGINAL-URL:https://schuetzen-bottendorf.de
X-WR-CALDESC:Veranstaltungen für Bottendorfer Gro&szlig;kaliber - Sch&uuml;tzenverein von 1991 e.V.
REFRESH-INTERVAL;VALUE=DURATION:PT1H
X-Robots-Tag:noindex
X-PUBLISHED-TTL:PT1H
BEGIN:VTIMEZONE
TZID:UTC
BEGIN:STANDARD
TZOFFSETFROM:+0000
TZOFFSETTO:+0000
TZNAME:UTC
DTSTART:20250101T000000
END:STANDARD
END:VTIMEZONE
BEGIN:VEVENT
DTSTART;TZID=UTC:20260821T180000
DTEND;TZID=UTC:20260821T233000
DTSTAMP:20260419T172424
CREATED:20260202T150528Z
LAST-MODIFIED:20260202T150528Z
UID:1793-1787335200-1787355000@schuetzen-bottendorf.de
SUMMARY:Feier Ehrenscheibe ab 18:00 Uhr
DESCRIPTION:
URL:https://schuetzen-bottendorf.de/event/feier-ehrenscheibe-ab-1800-uhr-2/
END:VEVENT
END:VCALENDAR