BEGIN:VCALENDAR
VERSION:2.0
PRODID:-//Bottendorfer Gro&szlig;kaliber - Sch&uuml;tzenverein von 1991 e.V. - ECPv6.15.20//NONSGML v1.0//EN
CALSCALE:GREGORIAN
METHOD:PUBLISH
X-WR-CALNAME:Bottendorfer Gro&szlig;kaliber - Sch&uuml;tzenverein von 1991 e.V.
X-ORIGINAL-URL:https://schuetzen-bottendorf.de
X-WR-CALDESC:Veranstaltungen für Bottendorfer Gro&szlig;kaliber - Sch&uuml;tzenverein von 1991 e.V.
REFRESH-INTERVAL;VALUE=DURATION:PT1H
X-Robots-Tag:noindex
X-PUBLISHED-TTL:PT1H
BEGIN:VTIMEZONE
TZID:UTC
BEGIN:STANDARD
TZOFFSETFROM:+0000
TZOFFSETTO:+0000
TZNAME:UTC
DTSTART:20240101T000000
END:STANDARD
END:VTIMEZONE
BEGIN:VEVENT
DTSTART;TZID=UTC:20250822T180000
DTEND;TZID=UTC:20250822T230000
DTSTAMP:20260423T093647
CREATED:20250119T153454Z
LAST-MODIFIED:20250119T153454Z
UID:1280-1755885600-1755903600@schuetzen-bottendorf.de
SUMMARY:Feier Ehrenscheibe ab 18:00 Uhr
DESCRIPTION:
URL:https://schuetzen-bottendorf.de/event/feier-ehrenscheibe-ab-1800-uhr/
LOCATION:Saal GKSV Bottendorf\, Pfaffenrainweg\, Roßleben-Wiehe OT Bottendorf\, Thüringen\, 06571
END:VEVENT
END:VCALENDAR