BEGIN:VCALENDAR
VERSION:2.0
PRODID:-//Bottendorfer Gro&szlig;kaliber - Sch&uuml;tzenverein von 1991 e.V. - ECPv6.15.20//NONSGML v1.0//EN
CALSCALE:GREGORIAN
METHOD:PUBLISH
X-ORIGINAL-URL:https://schuetzen-bottendorf.de
X-WR-CALDESC:Veranstaltungen für Bottendorfer Gro&szlig;kaliber - Sch&uuml;tzenverein von 1991 e.V.
REFRESH-INTERVAL;VALUE=DURATION:PT1H
X-Robots-Tag:noindex
X-PUBLISHED-TTL:PT1H
BEGIN:VTIMEZONE
TZID:UTC
BEGIN:STANDARD
TZOFFSETFROM:+0000
TZOFFSETTO:+0000
TZNAME:UTC
DTSTART:20240101T000000
END:STANDARD
END:VTIMEZONE
BEGIN:VEVENT
DTSTART;VALUE=DATE:20250531
DTEND;VALUE=DATE:20250602
DTSTAMP:20260420T093013
CREATED:20250313T083635Z
LAST-MODIFIED:20250313T083635Z
UID:1387-1748649600-1748822399@schuetzen-bottendorf.de
SUMMARY:TSB - Fortbildung Trainer C GEWEHR N104TH
DESCRIPTION:
URL:https://schuetzen-bottendorf.de/event/tsb-fortbildung-trainer-c-gewehr-n104th/
LOCATION:Saal GKSV Bottendorf\, Pfaffenrainweg\, Roßleben-Wiehe OT Bottendorf\, Thüringen\, 06571
END:VEVENT
BEGIN:VEVENT
DTSTART;TZID=UTC:20250531T080000
DTEND;TZID=UTC:20250531T150000
DTSTAMP:20260420T093013
CREATED:20250119T151810Z
LAST-MODIFIED:20250119T151810Z
UID:1252-1748678400-1748703600@schuetzen-bottendorf.de
SUMMARY:JgSchaft Gutmannshausen (Bahn 7 und 8 reserviert)
DESCRIPTION:
URL:https://schuetzen-bottendorf.de/event/jgschaft-gutmannshausen-bahn-7-und-8-reserviert/
END:VEVENT
BEGIN:VEVENT
DTSTART;TZID=UTC:20250531T100000
DTEND;TZID=UTC:20250531T140000
DTSTAMP:20260420T093013
CREATED:20250119T151718Z
LAST-MODIFIED:20250523T174617Z
UID:1250-1748685600-1748700000@schuetzen-bottendorf.de
SUMMARY:Wettkampf Fähigkeitsschießen - LW / KW kombiniert (Terminänderung)
DESCRIPTION:
URL:https://schuetzen-bottendorf.de/event/wettkampf-faehigkeitsschiessen-lw-kw-kombiniert-terminaenderung-2/
LOCATION:GK-Schießstandanlage Bottendorf\, Pfaffenrainweg\, Roßleben-Wiehe OT Bottendorf\, Thüringen\, 06571\, Deutschland
END:VEVENT
END:VCALENDAR