BEGIN:VCALENDAR
VERSION:2.0
PRODID:-//Bottendorfer Gro&szlig;kaliber - Sch&uuml;tzenverein von 1991 e.V. - ECPv6.15.20//NONSGML v1.0//EN
CALSCALE:GREGORIAN
METHOD:PUBLISH
X-ORIGINAL-URL:https://schuetzen-bottendorf.de
X-WR-CALDESC:Veranstaltungen für Bottendorfer Gro&szlig;kaliber - Sch&uuml;tzenverein von 1991 e.V.
REFRESH-INTERVAL;VALUE=DURATION:PT1H
X-Robots-Tag:noindex
X-PUBLISHED-TTL:PT1H
BEGIN:VTIMEZONE
TZID:UTC
BEGIN:STANDARD
TZOFFSETFROM:+0000
TZOFFSETTO:+0000
TZNAME:UTC
DTSTART:20240101T000000
END:STANDARD
END:VTIMEZONE
BEGIN:VEVENT
DTSTART;VALUE=DATE:20250517
DTEND;VALUE=DATE:20250518
DTSTAMP:20260420T110108
CREATED:20250313T083511Z
LAST-MODIFIED:20250313T083511Z
UID:1385-1747440000-1747526399@schuetzen-bottendorf.de
SUMMARY:JgSchaft Sondershausen
DESCRIPTION:(Bahn 7/8\, lfd. Keiler reserviert\, Trapstand nach Verfügbarkeit)
URL:https://schuetzen-bottendorf.de/event/jgschaft-sondershausen/
LOCATION:GK-Schießstandanlage Bottendorf\, Pfaffenrainweg\, Roßleben-Wiehe OT Bottendorf\, Thüringen\, 06571\, Deutschland
END:VEVENT
BEGIN:VEVENT
DTSTART;TZID=UTC:20250517T083000
DTEND;TZID=UTC:20250518T160000
DTSTAMP:20260420T110108
CREATED:20250119T151250Z
LAST-MODIFIED:20250119T151250Z
UID:1242-1747470600-1747584000@schuetzen-bottendorf.de
SUMMARY:Lehrgang Waffensachkunde (WSK)
DESCRIPTION:
URL:https://schuetzen-bottendorf.de/event/lehrgang-waffensachkunde-wsk-2/
LOCATION:Saal GKSV Bottendorf\, Pfaffenrainweg\, Roßleben-Wiehe OT Bottendorf\, Thüringen\, 06571
END:VEVENT
BEGIN:VEVENT
DTSTART;TZID=UTC:20250517T090000
DTEND;TZID=UTC:20250517T140000
DTSTAMP:20260420T110108
CREATED:20250119T151134Z
LAST-MODIFIED:20250119T151134Z
UID:1240-1747472400-1747490400@schuetzen-bottendorf.de
SUMMARY:Flintenpokal für Jäger und Schützen
DESCRIPTION:
URL:https://schuetzen-bottendorf.de/event/flintenpokal-fuer-jaeger-und-schuetzen-2/
LOCATION:GK-Schießstandanlage Bottendorf\, Pfaffenrainweg\, Roßleben-Wiehe OT Bottendorf\, Thüringen\, 06571\, Deutschland
END:VEVENT
END:VCALENDAR